git_url: https://git.bioconductor.org/packages/sscu git_branch: RELEASE_3_14 git_last_commit: 16126f9 git_last_commit_date: 2021-10-26 12:26:38 -0400 (Tue, 26 Oct 2021) Package: sscu Version: 2.24.0 Maintainer: Yu Sun MaintainerEmail: sunyu1357 at gmail.com