Package: survcomp Version: 1.44.1 Command: chmod a+r survcomp -R && C:\Users\biocbuild\bbs-3.14-bioc\R\bin\R.exe CMD build --keep-empty-dirs --no-resave-data survcomp StartedAt: 2022-04-12 14:44:22 -0400 (Tue, 12 Apr 2022) EndedAt: 2022-04-12 14:45:10 -0400 (Tue, 12 Apr 2022) EllapsedTime: 47.6 seconds RetCode: 0 Status: OK PackageFile: survcomp_1.44.1.tar.gz PackageFileSize: 851.1 KiB