Package: biodb Version: 1.2.2 Command: /Library/Frameworks/R.framework/Resources/bin/R CMD build --keep-empty-dirs --no-resave-data --no-build-vignettes --no-manual biodb StartedAt: 2022-04-09 08:00:50 -0400 (Sat, 09 Apr 2022) EndedAt: 2022-04-09 08:00:57 -0400 (Sat, 09 Apr 2022) EllapsedTime: 6.4 seconds RetCode: 0 Status: OK PackageFile: biodb_1.2.2.tar.gz PackageFileSize: 339.8 KiB