Package: biodb Version: 1.2.2 Command: chmod a+r biodb -R && D:\biocbuild\bbs-3.14-bioc\R\bin\R.exe CMD build --keep-empty-dirs --no-resave-data --no-build-vignettes --no-manual biodb StartedAt: 2022-04-09 08:01:55 -0400 (Sat, 09 Apr 2022) EndedAt: 2022-04-09 08:02:20 -0400 (Sat, 09 Apr 2022) EllapsedTime: 24.8 seconds RetCode: 0 Status: OK PackageFile: biodb_1.2.2.tar.gz PackageFileSize: 339.7 KiB