Package: biodbUniprot Version: 1.0.0 Command: /home/biocbuild/bbs-3.14-bioc/R/bin/R CMD check --test-dir=longtests --no-stop-on-test-error --no-codoc --no-examples --no-manual --ignore-vignettes --check-subdirs=no biodbUniprot_1.0.0.tar.gz StartedAt: 2022-04-09 08:06:37 -0400 (Sat, 09 Apr 2022) EndedAt: 2022-04-09 08:28:21 -0400 (Sat, 09 Apr 2022) EllapsedTime: 1303.6 seconds RetCode: 0 Status: OK CheckDir: biodbUniprot.Rcheck Warnings: 0