Package: biodbUniprot Version: 1.0.0 Command: chmod a+r biodbUniprot -R && D:\biocbuild\bbs-3.14-bioc\R\bin\R.exe CMD build --keep-empty-dirs --no-resave-data --no-build-vignettes --no-manual biodbUniprot StartedAt: 2022-04-09 08:01:55 -0400 (Sat, 09 Apr 2022) EndedAt: 2022-04-09 08:02:56 -0400 (Sat, 09 Apr 2022) EllapsedTime: 60.8 seconds RetCode: 0 Status: OK PackageFile: biodbUniprot_1.0.0.tar.gz PackageFileSize: 119.7 KiB