git_url: https://git.bioconductor.org/packages/ARRmData git_branch: RELEASE_3_14 git_last_commit: 1b4022d git_last_commit_date: 2021-10-26 11:58:34 -0400 (Tue, 26 Oct 2021) Package: ARRmData Version: 1.30.0 Maintainer: Jean-Philippe Fortin MaintainerEmail: jfortin at jhsph.edu