git_url: https://git.bioconductor.org/packages/AmpAffyExample git_branch: RELEASE_3_14 git_last_commit: a696d17 git_last_commit_date: 2021-10-26 11:38:45 -0400 (Tue, 26 Oct 2021) Package: AmpAffyExample Version: 1.34.0 Maintainer: Rafael A. Irizarry MaintainerEmail: rafa at jhu.edu