git_url: https://git.bioconductor.org/packages/AneuFinderData git_branch: RELEASE_3_14 git_last_commit: ae8eec3 git_last_commit_date: 2021-10-26 12:22:26 -0400 (Tue, 26 Oct 2021) Package: AneuFinderData Version: 1.22.0 Maintainer: Aaron Taudt MaintainerEmail: aaron.taudt at gmail.com