Package: BeadSorted.Saliva.EPIC Version: 1.2.0 Command: /home/biocbuild/bbs-3.14-bioc/R/bin/R CMD check --install=check:BeadSorted.Saliva.EPIC.install-out.txt --library=/home/biocbuild/bbs-3.14-bioc/R/library --no-vignettes --timings BeadSorted.Saliva.EPIC_1.2.0.tar.gz StartedAt: 2022-04-13 11:13:50 -0400 (Wed, 13 Apr 2022) EndedAt: 2022-04-13 11:17:32 -0400 (Wed, 13 Apr 2022) EllapsedTime: 221.7 seconds RetCode: 0 Status: OK CheckDir: BeadSorted.Saliva.EPIC.Rcheck Warnings: 0