git_url: https://git.bioconductor.org/packages/CLL git_branch: RELEASE_3_14 git_last_commit: 244b035 git_last_commit_date: 2021-10-26 11:38:59 -0400 (Tue, 26 Oct 2021) Package: CLL Version: 1.34.0 Maintainer: Robert Gentleman MaintainerEmail: rgentlem at fhcrc.org