git_url: https://git.bioconductor.org/packages/CLLmethylation git_branch: RELEASE_3_14 git_last_commit: 22f0b0b git_last_commit_date: 2021-10-26 12:31:19 -0400 (Tue, 26 Oct 2021) Package: CLLmethylation Version: 1.14.0 Maintainer: Malgorzata Oles , Andreas Mock MaintainerEmail: andreas.mock at embl.de