Package: CLLmethylation Version: 1.14.0 Command: /home/biocbuild/bbs-3.14-bioc/R/bin/R CMD build --keep-empty-dirs --no-resave-data CLLmethylation StartedAt: 2022-04-13 10:15:21 -0400 (Wed, 13 Apr 2022) EndedAt: 2022-04-13 10:16:14 -0400 (Wed, 13 Apr 2022) EllapsedTime: 53.8 seconds RetCode: 0 Status: OK PackageFile: CLLmethylation_1.14.0.tar.gz PackageFileSize: 316.1 KiB