Package: DmelSGI Version: 1.26.0 Command: /home/biocbuild/bbs-3.14-bioc/R/bin/R CMD check --install=check:DmelSGI.install-out.txt --library=/home/biocbuild/bbs-3.14-bioc/R/library --no-vignettes --timings DmelSGI_1.26.0.tar.gz StartedAt: 2022-04-13 11:21:26 -0400 (Wed, 13 Apr 2022) EndedAt: 2022-04-13 11:22:17 -0400 (Wed, 13 Apr 2022) EllapsedTime: 51.4 seconds RetCode: 0 Status: OK CheckDir: DmelSGI.Rcheck Warnings: 0