git_url: https://git.bioconductor.org/packages/Fletcher2013a git_branch: RELEASE_3_14 git_last_commit: 1f68524 git_last_commit_date: 2021-10-26 12:04:03 -0400 (Tue, 26 Oct 2021) Package: Fletcher2013a Version: 1.30.0 Maintainer: Mauro Castro MaintainerEmail: mauro.a.castro at gmail.com