Package: FlowSorted.Blood.EPIC Version: 1.12.1 Command: /home/biocbuild/bbs-3.14-bioc/R/bin/R CMD INSTALL FlowSorted.Blood.EPIC StartedAt: 2022-04-13 10:05:48 -0400 (Wed, 13 Apr 2022) EndedAt: 2022-04-13 10:06:22 -0400 (Wed, 13 Apr 2022) EllapsedTime: 33.3 seconds RetCode: 0 Status: OK