Package: FlowSorted.DLPFC.450k Version: 1.30.0 Command: /home/biocbuild/bbs-3.14-bioc/R/bin/R CMD check --install=check:FlowSorted.DLPFC.450k.install-out.txt --library=/home/biocbuild/bbs-3.14-bioc/R/library --no-vignettes --timings FlowSorted.DLPFC.450k_1.30.0.tar.gz StartedAt: 2022-04-13 11:25:36 -0400 (Wed, 13 Apr 2022) EndedAt: 2022-04-13 11:27:38 -0400 (Wed, 13 Apr 2022) EllapsedTime: 122.4 seconds RetCode: 0 Status: WARNINGS CheckDir: FlowSorted.DLPFC.450k.Rcheck Warnings: 1