Package: HD2013SGI Version: 1.34.0 Command: /home/biocbuild/bbs-3.14-bioc/R/bin/R CMD build --keep-empty-dirs --no-resave-data HD2013SGI StartedAt: 2022-04-13 10:27:46 -0400 (Wed, 13 Apr 2022) EndedAt: 2022-04-13 10:32:44 -0400 (Wed, 13 Apr 2022) EllapsedTime: 297.4 seconds RetCode: 0 Status: OK PackageFile: HD2013SGI_1.34.0.tar.gz PackageFileSize: 526.5 MiB