git_url: https://git.bioconductor.org/packages/HDCytoData git_branch: RELEASE_3_14 git_last_commit: bebad51 git_last_commit_date: 2021-10-26 12:31:46 -0400 (Tue, 26 Oct 2021) Package: HDCytoData Version: 1.14.0 Maintainer: Lukas M. Weber MaintainerEmail: lukas.weber.edu at gmail.com