git_url: https://git.bioconductor.org/packages/HIVcDNAvantWout03 git_branch: RELEASE_3_14 git_last_commit: e797be4 git_last_commit_date: 2021-10-26 11:40:35 -0400 (Tue, 26 Oct 2021) Package: HIVcDNAvantWout03 Version: 1.34.0 Maintainer: Chris Fraley MaintainerEmail: fraley at stat.washington.edu