Package: HMP16SData Version: 1.14.0 Command: /home/biocbuild/bbs-3.14-bioc/R/bin/R CMD build --keep-empty-dirs --no-resave-data HMP16SData StartedAt: 2022-04-13 10:29:26 -0400 (Wed, 13 Apr 2022) EndedAt: 2022-04-13 10:31:39 -0400 (Wed, 13 Apr 2022) EllapsedTime: 133.4 seconds RetCode: 0 Status: OK PackageFile: HMP16SData_1.14.0.tar.gz PackageFileSize: 16.27 MiB