Package: HarmanData Version: 1.22.0 Command: /home/biocbuild/bbs-3.14-bioc/R/bin/R CMD check --install=check:HarmanData.install-out.txt --library=/home/biocbuild/bbs-3.14-bioc/R/library --no-vignettes --timings HarmanData_1.22.0.tar.gz StartedAt: 2022-04-13 11:28:02 -0400 (Wed, 13 Apr 2022) EndedAt: 2022-04-13 11:28:14 -0400 (Wed, 13 Apr 2022) EllapsedTime: 12.0 seconds RetCode: 0 Status: WARNINGS CheckDir: HarmanData.Rcheck Warnings: 1