Package: Illumina450ProbeVariants.db Version: 1.30.0 Command: /home/biocbuild/bbs-3.14-bioc/R/bin/R CMD INSTALL Illumina450ProbeVariants.db StartedAt: 2022-04-13 10:03:35 -0400 (Wed, 13 Apr 2022) EndedAt: 2022-04-13 10:03:37 -0400 (Wed, 13 Apr 2022) EllapsedTime: 2.1 seconds RetCode: 0 Status: OK