Package: KEGGdzPathwaysGEO Version: 1.32.0 Command: /home/biocbuild/bbs-3.14-bioc/R/bin/R CMD build --keep-empty-dirs --no-resave-data KEGGdzPathwaysGEO StartedAt: 2022-04-13 10:30:43 -0400 (Wed, 13 Apr 2022) EndedAt: 2022-04-13 10:31:00 -0400 (Wed, 13 Apr 2022) EllapsedTime: 16.8 seconds RetCode: 0 Status: OK PackageFile: KEGGdzPathwaysGEO_1.32.0.tar.gz PackageFileSize: 300.1 MiB