Package: MEDIPSData Version: 1.30.0 Command: /home/biocbuild/bbs-3.14-bioc/R/bin/R CMD build --keep-empty-dirs --no-resave-data MEDIPSData StartedAt: 2022-04-13 10:32:54 -0400 (Wed, 13 Apr 2022) EndedAt: 2022-04-13 10:33:06 -0400 (Wed, 13 Apr 2022) EllapsedTime: 12.2 seconds RetCode: 0 Status: OK PackageFile: MEDIPSData_1.30.0.tar.gz PackageFileSize: 163.1 MiB