git_url: https://git.bioconductor.org/packages/MMDiffBamSubset git_branch: RELEASE_3_14 git_last_commit: 9efd2a2 git_last_commit_date: 2021-10-26 11:59:46 -0400 (Tue, 26 Oct 2021) Package: MMDiffBamSubset Version: 1.30.0 Maintainer: Gabriele Schweikert MaintainerEmail: G.Schweikert at ed.ac.uk