git_url: https://git.bioconductor.org/packages/MetaGxBreast git_branch: RELEASE_3_14 git_last_commit: 2fb53bf git_last_commit_date: 2021-10-26 12:31:26 -0400 (Tue, 26 Oct 2021) Package: MetaGxBreast Version: 1.14.0 Maintainer: Benjamin Haibe-Kains MaintainerEmail: benjamin.haibe.kains at utoronto.ca