git_url: https://git.bioconductor.org/packages/MetaGxOvarian git_branch: RELEASE_3_14 git_last_commit: f5b03eb git_last_commit_date: 2021-10-26 12:31:22 -0400 (Tue, 26 Oct 2021) Package: MetaGxOvarian Version: 1.14.0 Maintainer: Benjamin Haibe-Kains MaintainerEmail: benjamin.haibe.kains at utoronto.ca