git_url: https://git.bioconductor.org/packages/MethylAidData git_branch: RELEASE_3_14 git_last_commit: 36bb4d8 git_last_commit_date: 2021-10-26 12:13:39 -0400 (Tue, 26 Oct 2021) Package: MethylAidData Version: 1.26.0 Maintainer: M. van Iterson MaintainerEmail: mviterson at gmail.com