Package: NGScopyData Version: 1.14.0 Command: /home/biocbuild/bbs-3.14-bioc/R/bin/R CMD check --install=check:NGScopyData.install-out.txt --library=/home/biocbuild/bbs-3.14-bioc/R/library --no-vignettes --timings NGScopyData_1.14.0.tar.gz StartedAt: 2022-04-13 11:38:14 -0400 (Wed, 13 Apr 2022) EndedAt: 2022-04-13 11:38:26 -0400 (Wed, 13 Apr 2022) EllapsedTime: 12.0 seconds RetCode: 0 Status: OK CheckDir: NGScopyData.Rcheck Warnings: 0