Package: Neve2006 Version: 0.32.0 Command: /home/biocbuild/bbs-3.14-bioc/R/bin/R CMD build --keep-empty-dirs --no-resave-data Neve2006 StartedAt: 2022-04-13 10:35:40 -0400 (Wed, 13 Apr 2022) EndedAt: 2022-04-13 10:36:04 -0400 (Wed, 13 Apr 2022) EllapsedTime: 24.1 seconds RetCode: 0 Status: OK PackageFile: Neve2006_0.32.0.tar.gz PackageFileSize: 67.82 MiB