git_url: https://git.bioconductor.org/packages/PCHiCdata git_branch: RELEASE_3_14 git_last_commit: 993c2ef git_last_commit_date: 2021-11-15 14:04:59 -0400 (Mon, 15 Nov 2021) Package: PCHiCdata Version: 1.22.1 Maintainer: Paula Freire-Pritchett MaintainerEmail: paula.freire-pritchett at babraham.ac.uk