Package: PCHiCdata Version: 1.22.1 Command: /home/biocbuild/bbs-3.14-bioc/R/bin/R CMD build --keep-empty-dirs --no-resave-data PCHiCdata StartedAt: 2022-04-13 10:36:39 -0400 (Wed, 13 Apr 2022) EndedAt: 2022-04-13 10:38:12 -0400 (Wed, 13 Apr 2022) EllapsedTime: 93.3 seconds RetCode: 0 Status: OK PackageFile: PCHiCdata_1.22.1.tar.gz PackageFileSize: 183.3 MiB