Package: PCHiCdata Version: 1.22.1 Command: /home/biocbuild/bbs-3.14-bioc/R/bin/R CMD check --install=check:PCHiCdata.install-out.txt --library=/home/biocbuild/bbs-3.14-bioc/R/library --no-vignettes --timings PCHiCdata_1.22.1.tar.gz StartedAt: 2022-04-13 11:40:12 -0400 (Wed, 13 Apr 2022) EndedAt: 2022-04-13 11:41:11 -0400 (Wed, 13 Apr 2022) EllapsedTime: 58.6 seconds RetCode: 0 Status: WARNINGS CheckDir: PCHiCdata.Rcheck Warnings: 1