Package: PCHiCdata Version: 1.22.1 Command: /home/biocbuild/bbs-3.14-bioc/R/bin/R CMD INSTALL PCHiCdata StartedAt: 2022-04-13 10:09:06 -0400 (Wed, 13 Apr 2022) EndedAt: 2022-04-13 10:09:49 -0400 (Wed, 13 Apr 2022) EllapsedTime: 42.6 seconds RetCode: 0 Status: OK