git_url: https://git.bioconductor.org/packages/PhyloProfileData git_branch: RELEASE_3_14 git_last_commit: 1b8abcd git_last_commit_date: 2021-10-26 12:36:54 -0400 (Tue, 26 Oct 2021) Package: PhyloProfileData Version: 1.8.0 Maintainer: Vinh Tran MaintainerEmail: tran at bio.uni-frankfurt.de