git_url: https://git.bioconductor.org/packages/QUBICdata git_branch: RELEASE_3_14 git_last_commit: 00f01b1 git_last_commit_date: 2021-10-26 12:23:17 -0400 (Tue, 26 Oct 2021) Package: QUBICdata Version: 1.22.0 Maintainer: Yu Zhang MaintainerEmail: zy26 at jlu.edu.cn