Package: RITANdata Version: 1.18.1 Command: /home/biocbuild/bbs-3.14-bioc/R/bin/R CMD build --keep-empty-dirs --no-resave-data RITANdata StartedAt: 2022-04-13 10:38:20 -0400 (Wed, 13 Apr 2022) EndedAt: 2022-04-13 10:38:29 -0400 (Wed, 13 Apr 2022) EllapsedTime: 9.5 seconds RetCode: 0 Status: OK PackageFile: RITANdata_1.18.1.tar.gz PackageFileSize: 7.433 MiB