git_url: https://git.bioconductor.org/packages/RNAseqData.HNRNPC.bam.chr14 git_branch: RELEASE_3_14 git_last_commit: a0c3aa5 git_last_commit_date: 2021-10-26 12:00:35 -0400 (Tue, 26 Oct 2021) Package: RNAseqData.HNRNPC.bam.chr14 Version: 0.32.0 Maintainer: Hervé Pagès MaintainerEmail: hpages.on.github at gmail.com