git_url: https://git.bioconductor.org/packages/RTCGA.mRNA git_branch: RELEASE_3_14 git_last_commit: ee77b5f git_last_commit_date: 2021-10-26 12:20:28 -0400 (Tue, 26 Oct 2021) Package: RTCGA.mRNA Version: 1.22.0 Maintainer: Marcin Kosinski MaintainerEmail: m.p.kosinski at gmail.com