Package: RTCGA.mRNA Version: 1.22.0 Command: /home/biocbuild/bbs-3.14-bioc/R/bin/R CMD build --keep-empty-dirs --no-resave-data RTCGA.mRNA StartedAt: 2022-04-13 10:39:35 -0400 (Wed, 13 Apr 2022) EndedAt: 2022-04-13 10:40:21 -0400 (Wed, 13 Apr 2022) EllapsedTime: 46.0 seconds RetCode: 0 Status: OK PackageFile: RTCGA.mRNA_1.22.0.tar.gz PackageFileSize: 84.98 MiB