Package: RTCGA.rnaseq Version: 20151101.24.0 Command: /home/biocbuild/bbs-3.14-bioc/R/bin/R CMD build --keep-empty-dirs --no-resave-data RTCGA.rnaseq StartedAt: 2022-04-13 10:39:45 -0400 (Wed, 13 Apr 2022) EndedAt: 2022-04-13 10:43:17 -0400 (Wed, 13 Apr 2022) EllapsedTime: 212.9 seconds RetCode: 0 Status: OK PackageFile: RTCGA.rnaseq_20151101.24.0.tar.gz PackageFileSize: 612.6 MiB