Package: RTCGA.rnaseq Version: 20151101.24.0 Command: /home/biocbuild/bbs-3.14-bioc/R/bin/R CMD check --install=check:RTCGA.rnaseq.install-out.txt --library=/home/biocbuild/bbs-3.14-bioc/R/library --no-vignettes --timings RTCGA.rnaseq_20151101.24.0.tar.gz StartedAt: 2022-04-13 11:46:37 -0400 (Wed, 13 Apr 2022) EndedAt: 2022-04-13 11:49:26 -0400 (Wed, 13 Apr 2022) EllapsedTime: 169.8 seconds RetCode: 0 Status: WARNINGS CheckDir: RTCGA.rnaseq.Rcheck Warnings: 1