Package: RnBeads.mm10 Version: 2.2.0 Command: /home/biocbuild/bbs-3.14-bioc/R/bin/R CMD check --install=check:RnBeads.mm10.install-out.txt --library=/home/biocbuild/bbs-3.14-bioc/R/library --no-vignettes --timings RnBeads.mm10_2.2.0.tar.gz StartedAt: 2022-04-13 11:44:41 -0400 (Wed, 13 Apr 2022) EndedAt: 2022-04-13 11:46:36 -0400 (Wed, 13 Apr 2022) EllapsedTime: 114.9 seconds RetCode: 0 Status: OK CheckDir: RnBeads.mm10.Rcheck Warnings: 0