Package: RnBeads.mm10 Version: 2.2.0 Command: /home/biocbuild/bbs-3.14-bioc/R/bin/R CMD INSTALL RnBeads.mm10 StartedAt: 2022-04-13 10:01:48 -0400 (Wed, 13 Apr 2022) EndedAt: 2022-04-13 10:01:55 -0400 (Wed, 13 Apr 2022) EllapsedTime: 7.4 seconds RetCode: 0 Status: OK