Package: SNPhoodData Version: 1.24.0 Command: /home/biocbuild/bbs-3.14-bioc/R/bin/R CMD check --install=check:SNPhoodData.install-out.txt --library=/home/biocbuild/bbs-3.14-bioc/R/library --no-vignettes --timings SNPhoodData_1.24.0.tar.gz StartedAt: 2022-04-13 11:49:53 -0400 (Wed, 13 Apr 2022) EndedAt: 2022-04-13 11:50:10 -0400 (Wed, 13 Apr 2022) EllapsedTime: 17.0 seconds RetCode: 0 Status: OK CheckDir: SNPhoodData.Rcheck Warnings: 0