git_url: https://git.bioconductor.org/packages/Single.mTEC.Transcriptomes git_branch: RELEASE_3_14 git_last_commit: 06aecf3 git_last_commit_date: 2021-10-26 12:19:34 -0400 (Tue, 26 Oct 2021) Package: Single.mTEC.Transcriptomes Version: 1.22.0 Maintainer: Alejandro Reyes MaintainerEmail: alejandro.reyes at embl.de