Package: Single.mTEC.Transcriptomes Version: 1.22.0 Command: /home/biocbuild/bbs-3.14-bioc/R/bin/R CMD build --keep-empty-dirs --no-resave-data Single.mTEC.Transcriptomes StartedAt: 2022-04-13 10:42:14 -0400 (Wed, 13 Apr 2022) EndedAt: 2022-04-13 11:13:18 -0400 (Wed, 13 Apr 2022) EllapsedTime: 1864.4 seconds RetCode: 0 Status: OK PackageFile: Single.mTEC.Transcriptomes_1.22.0.tar.gz PackageFileSize: 903.9 MiB