Package: Single.mTEC.Transcriptomes Version: 1.22.0 Command: /home/biocbuild/bbs-3.14-bioc/R/bin/R CMD check --install=check:Single.mTEC.Transcriptomes.install-out.txt --library=/home/biocbuild/bbs-3.14-bioc/R/library --no-vignettes --timings Single.mTEC.Transcriptomes_1.22.0.tar.gz StartedAt: 2022-04-13 11:49:18 -0400 (Wed, 13 Apr 2022) EndedAt: 2022-04-13 11:52:26 -0400 (Wed, 13 Apr 2022) EllapsedTime: 187.6 seconds RetCode: 0 Status: OK CheckDir: Single.mTEC.Transcriptomes.Rcheck Warnings: 0