Package: Single.mTEC.Transcriptomes Version: 1.22.0 Command: /home/biocbuild/bbs-3.14-bioc/R/bin/R CMD INSTALL Single.mTEC.Transcriptomes StartedAt: 2022-04-13 10:01:45 -0400 (Wed, 13 Apr 2022) EndedAt: 2022-04-13 10:01:49 -0400 (Wed, 13 Apr 2022) EllapsedTime: 3.9 seconds RetCode: 0 Status: OK